Workbook

Sheet Plantilla cálculo CoefPeninsula
A1: 2.0TD
C2: Fórmula Península 2025 | L2: FEE (€/MWh) | M2: 2
C3: P1 | D3: P2 | E3: P3 | F3: P4 | G3: P5 | H3: P6 | L3: GDO's (€/MWh) | M3: 1
A4: Precio Medio Por periodo y tarifa del año anterior | B4: OMIE (€/MWh) | C4: 70.049277 | D4: 66.152881 | E4: 58.619492
A5: Calculado | B5: Kipen | C5: 1.111174 | D5: 1.0493665 | E5: 0.92986625
C7: P1 | D7: P2 | E7: P3 | F7: P4 | G7: P5 | H7: P6
A8: Promedio Año Anterior por periodo y tarifa | B8: SSAA (€/MWh) | C8: 12.746934 | D8: 13.071843 | E8: 12.501222
A9: Por BOE | B9: PC (€/MWh) | C9: 0.844 | D9: 0.14 | E9: 0
A10: Por BOE | B10: OM (€/MWh) | C10: 0.02 | D10: 0.02 | E10: 0.02
A11: Por BOE | B11: OS (€/MWh) | C11: 0.15 | D11: 0.15 | E11: 0.15
A12: Fijada en Licitacion año 1 a 3, luego pactada por precio | B12: GDO's (€/MWh) | C12: =+M3 -> 1 | D12: =+M3 -> 1 | E12: =+M3 -> 1
A13: Por BOE | B13: FNE (€/MWh) | C13: 1.5 | D13: 1.5 | E13: 1.5
A14: Diferencia anual de SSAA entre 2023 y 2024 | B14: D (€/MWh) | C14: 0 | D14: 0 | E14: 0
C16: P1 | D16: P2 | E16: P3 | F16: P4 | G16: P5 | H16: P6
A17: Promedio Año Anterior | B17: Perdidas (%) | C17: 0.16543939 | D17: 0.17041804 | E17: 0.19226631
A18: Por BOE | B18: TM (%) | C18: 0.015 | D18: 0.015 | E18: 0.015
C20: P1 | D20: P2 | E20: P3 | F20: P4 | G20: P5 | H20: P6
A21: Por BOE | B21: Cargos Energía (€/MWh) | C21: 58.305 | D21: 11.661 | E21: 2.915
A22: Por BOE | B22: Peajes Energía (€/MWh) | C22: 34.234 | D22: 16.54 | E22: 0.079
A23: Fijada en Licitacion (5 años) | B23: FEE (€/MWh) | C23: =+M2 -> 2 | D23: =+M2 -> 2 | E23: =+M2 -> 2
C25: P1 | D25: P2 | E25: P3 | F25: P4 | G25: P5 | H25: P6
A26: Calculado | B26: A (€/MWh) | C26: =+(C8+C9+C10+C11+C12+C13+C14)*(1+C17)*(1+C18)+C21+C22+C23 -> 113.7744 | D26: =+(D8+D9+D10+D11+D12+D13+D14)*(1+D17)*(1+D18)+D21+D22+D23 -> 49.068222 | E26: =+(E8+E9+E10+E11+E12+E13+E14)*(1+E17)*(1+E18)+E21+E22+E23 -> 23.353458
A27: Calculado | B27: B | C27: =+C5*(1+C17)*(1+C18) -> 1.3144311 | D27: =+D5*(1+D17)*(1+D18) -> 1.2466204 | E27: =+E5*(1+E17)*(1+E18) -> 1.1252779
A29: 3.0TD
C30: Fórmula Península 2025
C31: P1 | D31: P2 | E31: P3 | F31: P4 | G31: P5 | H31: P6
A32: Precio Medio Por periodo y tarifa del año anterior | B32: OMIE (€/MWh) | C32: 84.051525 | D32: 76.608229 | E32: 75.982142 | F32: 55.630646 | G32: 37.538721 | H32: 58.619492
A33: Calculado | B33: Kipen | C33: 1.3332882 | D33: 1.215217 | E33: 1.2052856 | F33: 0.88245493 | G33: 0.59546727 | H33: 0.92986625
C35: P1 | D35: P2 | E35: P3 | F35: P4 | G35: P5 | H35: P6
A36: Promedio Año Anterior por periodo y tarifa | B36: SSAA (€/MWh) | C36: 9.8870745 | D36: 11.187134 | E36: 13.246225 | F36: 14.988882 | G36: 16.258044 | H36: 12.501222
A37: Por BOE | B37: PC (€/MWh) | C37: 1.141 | D37: 0.527 | E37: 0.351 | F37: 0.264 | G37: 0.264 | H37: 0
A38: Por BOE | B38: OM (€/MWh) | C38: 0.02 | D38: 0.02 | E38: 0.02 | F38: 0.02 | G38: 0.02 | H38: 0.02
A39: Por BOE | B39: OS (€/MWh) | C39: 0.15 | D39: 0.15 | E39: 0.15 | F39: 0.15 | G39: 0.15 | H39: 0.15
A40: Fijada en Licitacion año 1 a 3, luego pactada por precio | B40: GDO's (€/MWh) | C40: =+M3 -> 1 | D40: =+$M$3 -> 1 | E40: =+$M$3 -> 1 | F40: =+$M$3 -> 1 | G40: =+$M$3 -> 1 | H40: =+$M$3 -> 1
A41: Por BOE | B41: FNE (€/MWh) | C41: 1.5 | D41: 1.5 | E41: 1.5 | F41: 1.5 | G41: 1.5 | H41: 1.5
A42: Diferencia anual de SSAA entre 2023 y 2024 | B42: D (€/MWh) | C42: 0 | D42: 0 | E42: 0 | F42: 0 | G42: 0 | H42: 0
C44: P1 | D44: P2 | E44: P3 | F44: P4 | G44: P5 | H44: P6
A45: Promedio Año Anterior | B45: Perdidas (%) | C45: 0.17938589 | D45: 0.18673572 | E45: 0.15933842 | F45: 0.154747 | G45: 0.15208557 | H45: 0.19226631
A46: Por BOE | B46: TM (%) | C46: 0.015 | D46: 0.015 | E46: 0.015 | F46: 0.015 | G46: 0.015 | H46: 0.015
C48: P1 | D48: P2 | E48: P3 | F48: P4 | G48: P5 | H48: P6
A49: Por BOE | B49: Cargos Energía (€/MWh) | C49: 32.503 | D49: 24.066 | E49: 13.001 | F49: 6.501 | G49: 4.167 | H49: 2.6
A50: Por BOE | B50: Peajes Energía (€/MWh) | C50: 28.528 | D50: 12.343 | E50: 4.673 | F50: 2.682 | G50: 0.119 | H50: 0.031
A51: Fijada en Licitacion (5 años) | B51: FEE (€/MWh) | C51: =+M2 -> 2 | D51: =+M2 -> 2 | E51: =+M2 -> 2 | F51: =+M2 -> 2 | G51: =+M2 -> 2 | H51: =+M2 -> 2
C53: P1 | D53: P2 | E53: P3 | F53: P4 | G53: P5 | H53: P6
A54: Calculado | B54: A (€/MWh) | C54: =+(C36+C37+C38+C39+C40+C41+C42)*(1+C45)*(1+C46)+C49+C50+C51 -> 79.428646 | D54: =+(D36+D37+D38+D39+D40+D41+D42)*(1+D45)*(1+D46)+D49+D50+D51 -> 55.735219 | E54: =+(E36+E37+E38+E39+E40+E41+E42)*(1+E45)*(1+E46)+E49+E50+E51 -> 38.816107 | F54: =+(F36+F37+F38+F39+F40+F41+F42)*(1+F45)*(1+F46)+F49+F50+F51 -> 32.18984 | G54: =+(G36+G37+G38+G39+G40+G41+G42)*(1+G45)*(1+G46)+G49+G50+G51 -> 28.72854 | H54: =+(H36+H37+H38+H39+H40+H41+H42)*(1+H45)*(1+H46)+H49+H50+H51 -> 22.990458
A55: Calculado | B55: B | C55: =+C33*(1+C45)*(1+C46) -> 1.5960482 | D55: =+D33*(1+D45)*(1+D46) -> 1.4637736 | E55: =+E33*(1+E45)*(1+E46) -> 1.4182939 | F55: =+F33*(1+F45)*(1+F46) -> 1.0342974 | G55: =+G33*(1+G45)*(1+G46) -> 0.69631969 | H55: =+H33*(1+H45)*(1+H46) -> 1.1252779
A58: 6.1TD
C59: Fórmula Península 2025
C60: P1 | D60: P2 | E60: P3 | F60: P4 | G60: P5 | H60: P6
A61: Precio Medio Por periodo y tarifa del año anterior | B61: OMIE (€/MWh) | C61: 84.051525 | D61: 76.608229 | E61: 75.982142 | F61: 55.630646 | G61: 37.538721 | H61: 58.619492
A62: Calculado | B62: Kipen | C62: 1.3332882 | D62: 1.215217 | E62: 1.2052856 | F62: 0.88245493 | G62: 0.59546727 | H62: 0.92986625
C64: P1 | D64: P2 | E64: P3 | F64: P4 | G64: P5 | H64: P6
A65: Promedio Año Anterior por periodo y tarifa | B65: SSAA (€/MWh) | C65: 9.8870745 | D65: 11.187134 | E65: 13.246225 | F65: 14.988882 | G65: 16.258044 | H65: 12.501222
A66: Por BOE | B66: PC (€/MWh) | C66: 0.49 | D66: 0.225 | E66: 0.15 | F66: 0.113 | G66: 0.113 | H66: 0
A67: Por BOE | B67: OM (€/MWh) | C67: 0.02 | D67: 0.02 | E67: 0.02 | F67: 0.02 | G67: 0.02 | H67: 0.02
A68: Por BOE | B68: OS (€/MWh) | C68: 0.15 | D68: 0.15 | E68: 0.15 | F68: 0.15 | G68: 0.15 | H68: 0.15
A69: Fijada en Licitacion año 1 a 3, luego pactada por precio | B69: GDO's (€/MWh) | C69: =+M3 -> 1 | D69: =+$M$3 -> 1 | E69: =+$M$3 -> 1 | F69: =+$M$3 -> 1 | G69: =+$M$3 -> 1 | H69: =+$M$3 -> 1
A70: Por BOE | B70: FNE (€/MWh) | C70: 1.5 | D70: 1.5 | E70: 1.5 | F70: 1.5 | G70: 1.5 | H70: 1.5
A71: Diferencia anual de SSAA entre 2023 y 2024 | B71: D (€/MWh) | C71: 0 | D71: 0 | E71: 0 | F71: 0 | G71: 0 | H71: 0
C73: P1 | D73: P2 | E73: P3 | F73: P4 | G73: P5 | H73: P6
A74: Promedio Año Anterior | B74: Perdidas (%) | C74: 0.07240274 | D74: 0.072560166 | E74: 0.062769681 | F74: 0.06096094 | G74: 0.047388983 | H74: 0.082247253
A75: Por BOE | B75: TM (%) | C75: 0.015 | D75: 0.015 | E75: 0.015 | F75: 0.015 | G75: 0.015 | H75: 0.015
C77: P1 | D77: P2 | E77: P3 | F77: P4 | G77: P5 | H77: P6
A78: Por BOE | B78: Cargos Energía (€/MWh) | C78: 17.674 | D78: 13.092 | E78: 7.069 | F78: 3.535 | G78: 2.266 | H78: 1.414
A79: Por BOE | B79: Peajes Energía (€/MWh) | C79: 27.104 | D79: 11.894 | E79: 4.726 | F79: 2.739 | G79: 0.122 | H79: 0.029
A80: Fijada en Licitacion (5 años) | B80: FEE (€/MWh) | C80: =+M2 -> 2 | D80: =+$M$2 -> 2 | E80: =+$M$2 -> 2 | F80: =+$M$2 -> 2 | G80: =+$M$2 -> 2 | H80: =+M2 -> 2
C82: P1 | D82: P2 | E82: P3 | F82: P4 | G82: P5 | H82: P6
A83: Calculado | B83: A (€/MWh) | C83: =+(C65+C66+C67+C68+C69+C70+C71)*(1+C74)*(1+C75)+C78+C79+C80 -> 60.979594 | D83: =+(D65+D66+D67+D68+D69+D70+D71)*(1+D74)*(1+D75)+D78+D79+D80 -> 42.316495 | E83: =+(E65+E66+E67+E68+E69+E70+E71)*(1+E74)*(1+E75)+E78+E79+E80 -> 31.125817 | F83: =+(F65+F66+F67+F68+F69+F70+F71)*(1+F74)*(1+F75)+F78+F79+F80 -> 27.412102 | G83: =+(G65+G66+G67+G68+G69+G70+G71)*(1+G74)*(1+G75)+G78+G79+G80 -> 24.630531 | H83: =+(H65+H66+H67+H68+H69+H70+H71)*(1+H74)*(1+H75)+H78+H79+H80 -> 20.108298
A84: Calculado | B84: B | C84: =+C62*(1+C74)*(1+C75) -> 1.4512692 | D84: =+D62*(1+D74)*(1+D75) -> 1.3229443 | E84: =+E62*(1+E74)*(1+E75) -> 1.3001551 | F84: =+F62*(1+F74)*(1+F75) -> 0.95029397 | G84: =+G62*(1+G74)*(1+G75) -> 0.63304115 | H84: =+H62*(1+H74)*(1+H75) -> 1.0214404
A87: 6.2TD
C88: Fórmula Península 2025
C89: P1 | D89: P2 | E89: P3 | F89: P4 | G89: P5 | H89: P6
A90: Precio Medio Por periodo y tarifa del año anterior | B90: OMIE (€/MWh) | C90: 84.051525 | D90: 76.608229 | E90: 75.982142 | F90: 55.630646 | G90: 37.538721 | H90: 58.619492
A91: Calculado | B91: Kipen | C91: 1.3332882 | D91: 1.215217 | E91: 1.2052856 | F91: 0.88245493 | G91: 0.59546727 | H91: 0.92986625
C93: P1 | D93: P2 | E93: P3 | F93: P4 | G93: P5 | H93: P6
A94: Promedio Año Anterior por periodo y tarifa | B94: SSAA (€/MWh) | C94: 9.8870745 | D94: 11.187134 | E94: 13.246225 | F94: 14.988882 | G94: 16.258044 | H94: 12.501222
A95: Por BOE | B95: PC (€/MWh) | C95: 0.49 | D95: 0.225 | E95: 0.15 | F95: 0.113 | G95: 0.113 | H95: 0
A96: Por BOE | B96: OM (€/MWh) | C96: 0.02 | D96: 0.02 | E96: 0.02 | F96: 0.02 | G96: 0.02 | H96: 0.02
A97: Por BOE | B97: OS (€/MWh) | C97: 0.15 | D97: 0.15 | E97: 0.15 | F97: 0.15 | G97: 0.15 | H97: 0.15
A98: Fijada en Licitacion año 1 a 3, luego pactada por precio | B98: GDO's (€/MWh) | C98: =+$M$3 -> 1 | D98: =+$M$3 -> 1 | E98: =+$M$3 -> 1 | F98: =+$M$3 -> 1 | G98: =+$M$3 -> 1 | H98: =+$M$3 -> 1
A99: Por BOE | B99: FNE (€/MWh) | C99: 1.5 | D99: 1.5 | E99: 1.5 | F99: 1.5 | G99: 1.5 | H99: 1.5
A100: Diferencia anual de SSAA entre 2023 y 2024 | B100: D (€/MWh)
C102: P1 | D102: P2 | E102: P3 | F102: P4 | G102: P5 | H102: P6
A103: Promedio Año Anterior | B103: Perdidas (%) | C103: 0.056193172 | D103: 0.057621308 | E103: 0.047318683 | F103: 0.046893031 | G103: 0.038572428 | H103: 0.057679892
A104: Por BOE | B104: TM (%) | C104: 0.015 | D104: 0.015 | E104: 0.015 | F104: 0.015 | G104: 0.015 | H104: 0.015
C106: P1 | D106: P2 | E106: P3 | F106: P4 | G106: P5 | H106: P6
A107: Por BOE | B107: Cargos Energía (€/MWh) | C107: 8.293 | D107: 6.142 | E107: 3.317 | F107: 1.659 | G107: 1.063 | H107: 0.663
A108: Por BOE | B108: Peajes Energía (€/MWh) | C108: 14.77 | D108: 6.84 | E108: 2.279 | F108: 1.219 | G108: 0.063 | H108: 0.02
A109: Fijada en Licitacion (5 años) | B109: FEE (€/MWh) | C109: =+$M$2 -> 2 | D109: =+$M$2 -> 2 | E109: =+$M$2 -> 2 | F109: =+$M$2 -> 2 | G109: =+$M$2 -> 2 | H109: =+$M$2 -> 2
C111: P1 | D111: P2 | E111: P3 | F111: P4 | G111: P5 | H111: P6
A112: Calculado | B112: A (€/MWh) | C112: =+(C94+C95+C96+C97+C98+C99+C100)*(1+C103)*(1+C104)+C107+C108+C109 -> 39.049935 | D112: =+(D94+D95+D96+D97+D98+D99+D100)*(1+D103)*(1+D104)+D107+D108+D109 -> 30.098969 | E112: =+(E94+E95+E96+E97+E98+E99+E100)*(1+E103)*(1+E104)+E107+E108+E109 -> 24.674854 | F112: =+(F94+F95+F96+F97+F98+F99+F100)*(1+F103)*(1+F104)+F107+F108+F109 -> 23.762339 | G112: =+(G94+G95+G96+G97+G98+G99+G100)*(1+G103)*(1+G104)+G107+G108+G109 -> 23.198136 | H112: =+(H94+H95+H96+H97+H98+H99+H100)*(1+H103)*(1+H104)+H107+H108+H109 -> 18.96999
A113: Calculado | B113: B | C113: 1.429333 | D113: 1.304518 | E113: 1.2812529 | F113: 0.93769346 | G113: 0.62771243 | H113: 0.99825334

Sheet Plantilla cálculo CoefCanarias
A1: 2.0TD
C2: Fórmula Península 2025 | M2: FEE (€/MWh) | N2: 2
C3: P1 | D3: P2 | E3: P3 | F3: P4 | G3: P5 | H3: P6 | M3: GDO's (€/MWh) | N3: 1
A4: Precio Medio Por periodo y tarifa del año anterior | B4: OMIE (€/MWh) | C4: 79.449465 | D4: 72.140997 | E4: 51.896957
A5: Calculado | B5: Kipen | C5: 1.2602869 | D5: 1.1443545 | E5: 0.82322836
C7: P1 | D7: P2 | E7: P3 | F7: P4 | G7: P5 | H7: P6
A8: Promedio Año Anterior por periodo y tarifa | B8: SSAA (€/MWh) | C8: 12.746934 | D8: 13.071843 | E8: 12.501222
A9: Por BOE | B9: PC (€/MWh) | C9: 0.844 | D9: 0.14 | E9: 0
A10: Por BOE | B10: OM (€/MWh) | C10: 0.02 | D10: 0.02 | E10: 0.02
A11: Por BOE | B11: OS (€/MWh) | C11: 0.15 | D11: 0.15 | E11: 0.15
A12: Fijada en Licitacion año 1 a 3, luego pactada por precio | B12: GDO's (€/MWh) | C12: =+$N$3 -> 1 | D12: =+$N$3 -> 1 | E12: =+$N$3 -> 1
A13: Por BOE | B13: FNE (€/MWh) | C13: 1.5 | D13: 1.5 | E13: 1.5
A14: Diferencia anual de SSAA entre 2023 y 2024 | B14: D (€/MWh)
C16: P1 | D16: P2 | E16: P3 | F16: P4 | G16: P5 | H16: P6
A17: Promedio Año Anterior | B17: Perdidas (%) | C17: 0.16690332 | D17: 0.17541602 | E17: 0.19672142
A18: Por BOE | B18: TM (%) | C18: 0.015 | D18: 0.015 | E18: 0.015
C20: P1 | D20: P2 | E20: P3 | F20: P4 | G20: P5 | H20: P6
A21: Por BOE | B21: Cargos Energía (€/MWh) | C21: 58.305 | D21: 11.661 | E21: 2.915
A22: Por BOE | B22: Peajes Energía (€/MWh) | C22: 34.234 | D22: 16.54 | E22: 0.079
A23: Fijada en Licitacion (5 años) | B23: FEE (€/MWh) | C23: =+$N$2 -> 2 | D23: =+$N$2 -> 2 | E23: =+$N$2 -> 2
C25: P1 | D25: P2 | E25: P3 | F25: P4 | G25: P5 | H25: P6
A26: Calculado | B26: A (€/MWh) | C26: =+(C8+C9+C10+C11+C12+C13+C14)*(1+C17)*(1+C18)+C21+C22+C23 -> 113.79856 | D26: =+(D8+D9+D10+D11+D12+D13+D14)*(1+D17)*(1+D18)+D21+D22+D23 -> 49.14879 | E26: =+(E8+E9+E10+E11+E12+E13+E14)*(1+E17)*(1+E18)+E21+E22+E23 -> 23.422062
A27: Calculado | B27: B | C27: =+C5*(1+C17)*(1+C18) -> 1.4926924 | D27: =+D5*(1+D17)*(1+D18) -> 1.365269 | E27: =+E5*(1+E17)*(1+E18) -> 0.99995263
A29: 3.0TD
C30: Fórmula Península 2025
C31: P1 | D31: P2 | E31: P3 | F31: P4 | G31: P5 | H31: P6
A32: Precio Medio Por periodo y tarifa del año anterior | B32: OMIE (€/MWh) | C32: 94.088258 | D32: 89.52537 | E32: 96.529905 | F32: 47.231157 | G32: 38.589554 | H32: 51.896957
A33: Calculado | B33: Kipen | C33: 1.4924983 | D33: 1.4201184 | E33: 1.5312296 | F33: 0.74921596 | G33: 0.61213638 | H33: 0.82322836
C35: P1 | D35: P2 | E35: P3 | F35: P4 | G35: P5 | H35: P6
A36: Promedio Año Anterior por periodo y tarifa | B36: SSAA (€/MWh) | C36: 12.225808 | D36: 10.484211 | E36: 13.219747 | F36: 13.898919 | G36: 16.302252 | H36: 12.501222
A37: Por BOE | B37: PC (€/MWh) | C37: 1.141 | D37: 0.527 | E37: 0.351 | F37: 0.264 | G37: 0.264 | H37: 0
A38: Por BOE | B38: OM (€/MWh) | C38: 0.02 | D38: 0.02 | E38: 0.02 | F38: 0.02 | G38: 0.02 | H38: 0.02
A39: Por BOE | B39: OS (€/MWh) | C39: 0.15 | D39: 0.15 | E39: 0.15 | F39: 0.15 | G39: 0.15 | H39: 0.15
A40: Fijada en Licitacion año 1 a 3, luego pactada por precio | B40: GDO's (€/MWh) | C40: =+$N$3 -> 1 | D40: =+$N$3 -> 1 | E40: =+$N$3 -> 1 | F40: =+$N$3 -> 1 | G40: =+$N$3 -> 1 | H40: =+$N$3 -> 1
A41: Por BOE | B41: FNE (€/MWh) | C41: 1.5 | D41: 1.5 | E41: 1.5 | F41: 1.5 | G41: 1.5 | H41: 1.5
A42: Diferencia anual de SSAA entre 2023 y 2024 | B42: D (€/MWh)
C44: P1 | D44: P2 | E44: P3 | F44: P4 | G44: P5 | H44: P6
A45: Promedio Año Anterior | B45: Perdidas (%) | C45: 0.15346717 | D45: 0.19307585 | E45: 0.17400893 | F45: 0.17244531 | G45: 0.14491741 | H45: 0.19672142
A46: Por BOE | B46: TM (%) | C46: 0.015 | D46: 0.015 | E46: 0.015 | F46: 0.015 | G46: 0.015 | H46: 0.015
C48: P1 | D48: P2 | E48: P3 | F48: P4 | G48: P5 | H48: P6
A49: Por BOE | B49: Cargos Energía (€/MWh) | C49: 32.503 | D49: 24.066 | E49: 13.001 | F49: 6.501 | G49: 4.167 | H49: 2.6
A50: Por BOE | B50: Peajes Energía (€/MWh) | C50: 28.528 | D50: 12.343 | E50: 4.673 | F50: 2.682 | G50: 0.119 | H50: 0.031
A51: Fijada en Licitacion (5 años) | B51: FEE (€/MWh) | C51: =+$N$2 -> 2 | D51: =+$N$2 -> 2 | E51: =+$N$2 -> 2 | F51: =+$N$2 -> 2 | G51: =+$N$2 -> 2 | H51: =+$N$2 -> 2
C53: P1 | D53: P2 | E53: P3 | F53: P4 | G53: P5 | H53: P6
A54: Calculado | B54: A (€/MWh) | C54: =+(C36+C37+C38+C39+C40+C41+C42)*(1+C45)*(1+C46)+C49+C50+C51 -> 81.806401 | D54: =+(D36+D37+D38+D39+D40+D41+D42)*(1+D45)*(1+D46)+D49+D50+D51 -> 54.976563 | E54: =+(E36+E37+E38+E39+E40+E41+E42)*(1+E45)*(1+E46)+E49+E50+E51 -> 39.026784 | F54: =+(F36+F37+F38+F39+F40+F41+F42)*(1+F45)*(1+F46)+F49+F50+F51 -> 31.214712 | G54: =+(G36+G37+G38+G39+G40+G41+G42)*(1+G45)*(1+G46)+G49+G50+G51 -> 28.640279 | H54: =+(H36+H37+H38+H39+H40+H41+H42)*(1+H45)*(1+H46)+H49+H50+H51 -> 23.059062
A55: Calculado | B55: B | C55: =+C33*(1+C45)*(1+C46) -> 1.7473711 | D55: =+D33*(1+D45)*(1+D46) -> 1.7197236 | E55: =+E33*(1+E45)*(1+E46) -> 1.8246424 | F55: =+F33*(1+F45)*(1+F46) -> 0.89159096 | G55: =+G33*(1+G45)*(1+G46) -> 0.71135828 | H55: =+H33*(1+H45)*(1+H46) -> 0.99995263
A58: 6.1TD
C59: Fórmula Península 2025
C60: P1 | D60: P2 | E60: P3 | F60: P4 | G60: P5 | H60: P6
A61: Precio Medio Por periodo y tarifa del año anterior | B61: OMIE (€/MWh) | C61: 94.088258 | D61: 89.52537 | E61: 96.529905 | F61: 47.231157 | G61: 38.589554 | H61: 51.896957
A62: Calculado | B62: Kipen | C62: 1.4924983 | D62: 1.4201184 | E62: 1.5312296 | F62: 0.74921596 | G62: 0.61213638 | H62: 0.82322836
C64: P1 | D64: P2 | E64: P3 | F64: P4 | G64: P5 | H64: P6
A65: Promedio Año Anterior por periodo y tarifa | B65: SSAA (€/MWh) | C65: 12.225808 | D65: 10.484211 | E65: 13.219747 | F65: 13.898919 | G65: 16.302252 | H65: 12.501222
A66: Por BOE | B66: PC (€/MWh) | C66: 0.49 | D66: 0.225 | E66: 0.15 | F66: 0.113 | G66: 0.113 | H66: 0
A67: Por BOE | B67: OM (€/MWh) | C67: 0.02 | D67: 0.02 | E67: 0.02 | F67: 0.02 | G67: 0.02 | H67: 0.02
A68: Por BOE | B68: OS (€/MWh) | C68: 0.15 | D68: 0.15 | E68: 0.15 | F68: 0.15 | G68: 0.15 | H68: 0.15
A69: Fijada en Licitacion año 1 a 3, luego pactada por precio | B69: GDO's (€/MWh) | C69: =+$N$3 -> 1 | D69: =+$N$3 -> 1 | E69: =+$N$3 -> 1 | F69: =+$N$3 -> 1 | G69: =+$N$3 -> 1 | H69: =+$N$3 -> 1
A70: Por BOE | B70: FNE (€/MWh) | C70: 1.5 | D70: 1.5 | E70: 1.5 | F70: 1.5 | G70: 1.5 | H70: 1.5
A71: Diferencia anual de SSAA entre 2023 y 2024 | B71: D (€/MWh)
C73: P1 | D73: P2 | E73: P3 | F73: P4 | G73: P5 | H73: P6
A74: Promedio Año Anterior | B74: Perdidas (%) | C74: 0.061945707 | D74: 0.075047009 | E74: 0.068565848 | F74: 0.067853516 | G74: 0.04521875 | H74: 0.084335111
A75: Por BOE | B75: TM (%) | C75: 0.015 | D75: 0.015 | E75: 0.015 | F75: 0.015 | G75: 0.015 | H75: 0.015
C77: P1 | D77: P2 | E77: P3 | F77: P4 | G77: P5 | H77: P6
A78: Por BOE | B78: Cargos Energía (€/MWh) | C78: 17.674 | D78: 13.092 | E78: 7.069 | F78: 3.535 | G78: 2.266 | H78: 1.414
A79: Por BOE | B79: Peajes Energía (€/MWh) | C79: 27.104 | D79: 11.894 | E79: 4.726 | F79: 2.739 | G79: 0.122 | H79: 0.029
A80: Fijada en Licitacion (5 años) | B80: FEE (€/MWh) | C80: =+$N$2 -> 2 | D80: =+$N$2 -> 2 | E80: =+$N$2 -> 2 | F80: =+$N$2 -> 2 | G80: =+$N$2 -> 2 | H80: =+$N$2 -> 2
C82: P1 | D82: P2 | E82: P3 | F82: P4 | G82: P5 | H82: P6
A83: Calculado | B83: A (€/MWh) | C83: =+(C65+C66+C67+C68+C69+C70+C71)*(1+C74)*(1+C75)+C78+C79+C80 -> 63.361976 | D83: =+(D65+D66+D67+D68+D69+D70+D71)*(1+D74)*(1+D75)+D78+D79+D80 -> 41.58503 | E83: =+(E65+E66+E67+E68+E69+E70+E71)*(1+E74)*(1+E75)+E78+E79+E80 -> 31.191619 | F83: =+(F65+F66+F67+F68+F69+F70+F71)*(1+F74)*(1+F75)+F78+F79+F80 -> 26.355054 | G83: =+(G65+G66+G67+G68+G69+G70+G71)*(1+G74)*(1+G75)+G78+G79+G80 -> 24.635488 | H83: =+(H65+H66+H67+H68+H69+H70+H71)*(1+H74)*(1+H75)+H78+H79+H80 -> 20.140449
A84: Calculado | B84: B | C84: =+C62*(1+C74)*(1+C75) -> 1.6087265 | D84: =+D62*(1+D74)*(1+D75) -> 1.5495944 | E84: =+E62*(1+E74)*(1+E75) -> 1.6607629 | F84: =+F62*(1+F74)*(1+F75) -> 0.81205369 | G84: =+G62*(1+G74)*(1+G75) -> 0.64941367 | H84: =+H62*(1+H74)*(1+H75) -> 0.90604524

Sheet Plantilla Cálculo de Precios
B2: Precio OMIP a considerar | D2: 60 | E2: €/MWh | L2: ATRp [€/kW año]
B3: Fee Settlement YR +1 | D3: 1 | E3: €/MWh | M3: P1 | N3: P2 | O3: P3 | P3: P4 | Q3: P5 | R3: P6
B4: Fee Settlement YR +2 | D4: 1 | E4: €/MWh | L4: 2.0TD | M4: 26.93055 | N4: 0.69759
L5: 3.0TD | M5: 19.65849 | N5: 10.25165 | O5: 4.26254 | P5: 3.68155 | Q5: 2.32817 | R5: 1.35639
L6: 6.1TD | M6: 28.79187 | N6: 15.07765 | O6: 6.55917 | P6: 5.17209 | Q6: 1.93281 | R6: 0.91609
A7: PENÍNSULA | L7: 6.2TD | M7: 19.62866 | N7: 10.9318 | O7: 3.57544 | P7: 2.60595 | Q7: 1.1532 | R7: 0.55404
B8: COEF A (€/kWh) | C8: P1 | D8: P2 | E8: P3 | F8: P4 | G8: P5 | H8: P6
B9: 2.0TD | C9: =+'Plantilla cálculo CoefPeninsula'!C26/1000 -> 0.1137744 | D9: =+'Plantilla cálculo CoefPeninsula'!D26/1000 -> 0.049068222 | E9: =+'Plantilla cálculo CoefPeninsula'!E26/1000 -> 0.023353458
B10: 3.0TD | C10: =+'Plantilla cálculo CoefPeninsula'!C54/1000 -> 0.079428646 | D10: =+'Plantilla cálculo CoefPeninsula'!D54/1000 -> 0.055735219 | E10: =+'Plantilla cálculo CoefPeninsula'!E54/1000 -> 0.038816107 | F10: =+'Plantilla cálculo CoefPeninsula'!F54/1000 -> 0.03218984 | G10: =+'Plantilla cálculo CoefPeninsula'!G54/1000 -> 0.02872854 | H10: =+'Plantilla cálculo CoefPeninsula'!H54/1000 -> 0.022990458
B11: 6.1TD | C11: =+'Plantilla cálculo CoefPeninsula'!C83/1000 -> 0.060979594 | D11: =+'Plantilla cálculo CoefPeninsula'!D83/1000 -> 0.042316495 | E11: =+'Plantilla cálculo CoefPeninsula'!E83/1000 -> 0.031125817 | F11: =+'Plantilla cálculo CoefPeninsula'!F83/1000 -> 0.027412102 | G11: =+'Plantilla cálculo CoefPeninsula'!G83/1000 -> 0.024630531 | H11: =+'Plantilla cálculo CoefPeninsula'!H83/1000 -> 0.020108298 | L11: Importe Alquileres
B12: 6.2TD | C12: =+'Plantilla cálculo CoefPeninsula'!C112/1000 -> 0.039049935 | D12: =+'Plantilla cálculo CoefPeninsula'!D112/1000 -> 0.030098969 | E12: =+'Plantilla cálculo CoefPeninsula'!E112/1000 -> 0.024674854 | F12: =+'Plantilla cálculo CoefPeninsula'!F112/1000 -> 0.023762339 | G12: =+'Plantilla cálculo CoefPeninsula'!G112/1000 -> 0.023198136 | H12: =+'Plantilla cálculo CoefPeninsula'!H112/1000 -> 0.01896999 | L12: 2.0TD | M12: 24 | O12: 12
L13: 3.0TD | M13: 144
B14: COEF B | C14: P1 | D14: P2 | E14: P3 | F14: P4 | G14: P5 | H14: P6 | L14: 6.1TD | M14: 540
B15: 2.0TD | C15: =+'Plantilla cálculo CoefPeninsula'!C27 -> 1.3144311 | D15: =+'Plantilla cálculo CoefPeninsula'!D27 -> 1.2466204 | E15: =+'Plantilla cálculo CoefPeninsula'!E27 -> 1.1252779 | L15: 6.2TD | M15: 540
B16: 3.0TD | C16: =+'Plantilla cálculo CoefPeninsula'!C55 -> 1.5960482 | D16: =+'Plantilla cálculo CoefPeninsula'!D55 -> 1.4637736 | E16: =+'Plantilla cálculo CoefPeninsula'!E55 -> 1.4182939 | F16: =+'Plantilla cálculo CoefPeninsula'!F55 -> 1.0342974 | G16: =+'Plantilla cálculo CoefPeninsula'!G55 -> 0.69631969 | H16: =+'Plantilla cálculo CoefPeninsula'!H55 -> 1.1252779
B17: 6.1TD | C17: =+'Plantilla cálculo CoefPeninsula'!C84 -> 1.4512692 | D17: =+'Plantilla cálculo CoefPeninsula'!D84 -> 1.3229443 | E17: =+'Plantilla cálculo CoefPeninsula'!E84 -> 1.3001551 | F17: =+'Plantilla cálculo CoefPeninsula'!F84 -> 0.95029397 | G17: =+'Plantilla cálculo CoefPeninsula'!G84 -> 0.63304115 | H17: =+'Plantilla cálculo CoefPeninsula'!H84 -> 1.0214404
B18: 6.2TD | C18: =+'Plantilla cálculo CoefPeninsula'!C113 -> 1.429333 | D18: =+'Plantilla cálculo CoefPeninsula'!D113 -> 1.304518 | E18: =+'Plantilla cálculo CoefPeninsula'!E113 -> 1.2812529 | F18: =+'Plantilla cálculo CoefPeninsula'!F113 -> 0.93769346 | G18: =+'Plantilla cálculo CoefPeninsula'!G113 -> 0.62771243 | H18: =+'Plantilla cálculo CoefPeninsula'!H113 -> 0.99825334
B21: Precios Calculados (€/kWh) | C21: P1 | D21: P2 | E21: P3 | F21: P4 | G21: P5 | H21: P6
B22: 2.0TD | C22: =+C9+C15*($D$2+0.5*$D$3+0.5*$D$4)/1000 -> 0.1939547 | D22: =+D9+D15*($D$2+0.5*$D$3+0.5*$D$4)/1000 -> 0.12511207 | E22: =+E9+E15*($D$2+0.5*$D$3+0.5*$D$4)/1000 -> 0.091995411
B23: 3.0TD | C23: =+C10+C16*($D$2+0.5*$D$3+0.5*$D$4)/1000 -> 0.17678758 | D23: =+D10+D16*($D$2+0.5*$D$3+0.5*$D$4)/1000 -> 0.14502541 | E23: =+E10+E16*($D$2+0.5*$D$3+0.5*$D$4)/1000 -> 0.12533203 | F23: =+F10+F16*($D$2+0.5*$D$3+0.5*$D$4)/1000 -> 0.09528198 | G23: =+G10+G16*($D$2+0.5*$D$3+0.5*$D$4)/1000 -> 0.071204042 | H23: =+H10+H16*($D$2+0.5*$D$3+0.5*$D$4)/1000 -> 0.091632411
B24: 6.1TD | C24: =+C11+C17*($D$2+0.5*$D$3+0.5*$D$4)/1000 -> 0.14950702 | D24: =+D11+D17*($D$2+0.5*$D$3+0.5*$D$4)/1000 -> 0.1230161 | E24: =+E11+E17*($D$2+0.5*$D$3+0.5*$D$4)/1000 -> 0.11043528 | F24: =+F11+F17*($D$2+0.5*$D$3+0.5*$D$4)/1000 -> 0.085380034 | G24: =+G11+G17*($D$2+0.5*$D$3+0.5*$D$4)/1000 -> 0.063246041 | H24: =+H11+H17*($D$2+0.5*$D$3+0.5*$D$4)/1000 -> 0.082416161
B25: 6.2TD | C25: =+C12+C18*($D$2+0.5*$D$3+0.5*$D$4)/1000 -> 0.12623925 | D25: =+D12+D18*($D$2+0.5*$D$3+0.5*$D$4)/1000 -> 0.10967457 | E25: =+E12+E18*($D$2+0.5*$D$3+0.5*$D$4)/1000 -> 0.10283128 | F25: =+F12+F18*($D$2+0.5*$D$3+0.5*$D$4)/1000 -> 0.080961639 | G25: =+G12+G18*($D$2+0.5*$D$3+0.5*$D$4)/1000 -> 0.061488594 | H25: =+H12+H18*($D$2+0.5*$D$3+0.5*$D$4)/1000 -> 0.079863444
A29: CANARIAS
B30: COEF A (€/kWh) | C30: P1 | D30: P2 | E30: P3 | F30: P4 | G30: P5 | H30: P6
B31: 2.0TD | C31: =+'Plantilla cálculo CoefCanarias'!C26/1000 -> 0.11379856 | D31: =+'Plantilla cálculo CoefCanarias'!D26/1000 -> 0.04914879 | E31: =+'Plantilla cálculo CoefCanarias'!E26/1000 -> 0.023422062
B32: 3.0TD | C32: =+'Plantilla cálculo CoefCanarias'!C54/1000 -> 0.081806401 | D32: =+'Plantilla cálculo CoefCanarias'!D54/1000 -> 0.054976563 | E32: =+'Plantilla cálculo CoefCanarias'!E54/1000 -> 0.039026784 | F32: =+'Plantilla cálculo CoefCanarias'!F54/1000 -> 0.031214712 | G32: =+'Plantilla cálculo CoefCanarias'!G54/1000 -> 0.028640279 | H32: =+'Plantilla cálculo CoefCanarias'!H54/1000 -> 0.023059062
B33: 6.1TD | C33: =+'Plantilla cálculo CoefCanarias'!C83/1000 -> 0.063361976 | D33: =+'Plantilla cálculo CoefCanarias'!D83/1000 -> 0.04158503 | E33: =+'Plantilla cálculo CoefCanarias'!E83/1000 -> 0.031191619 | F33: =+'Plantilla cálculo CoefCanarias'!F83/1000 -> 0.026355054 | G33: =+'Plantilla cálculo CoefCanarias'!G83/1000 -> 0.024635488 | H33: =+'Plantilla cálculo CoefCanarias'!H83/1000 -> 0.020140449
B35: COEF B | C35: P1 | D35: P2 | E35: P3 | F35: P4 | G35: P5 | H35: P6
B36: 2.0TD | C36: =+'Plantilla cálculo CoefCanarias'!C27 -> 1.4926924 | D36: =+'Plantilla cálculo CoefCanarias'!D27 -> 1.365269 | E36: =+'Plantilla cálculo CoefCanarias'!E27 -> 0.99995263
B37: 3.0TD | C37: =+'Plantilla cálculo CoefCanarias'!C55 -> 1.7473711 | D37: =+'Plantilla cálculo CoefCanarias'!D55 -> 1.7197236 | E37: =+'Plantilla cálculo CoefCanarias'!E55 -> 1.8246424 | F37: =+'Plantilla cálculo CoefCanarias'!F55 -> 0.89159096 | G37: =+'Plantilla cálculo CoefCanarias'!G55 -> 0.71135828 | H37: =+'Plantilla cálculo CoefCanarias'!H55 -> 0.99995263
B38: 6.1TD | C38: =+'Plantilla cálculo CoefCanarias'!C84 -> 1.6087265 | D38: =+'Plantilla cálculo CoefCanarias'!D84 -> 1.5495944 | E38: =+'Plantilla cálculo CoefCanarias'!E84 -> 1.6607629 | F38: =+'Plantilla cálculo CoefCanarias'!F84 -> 0.81205369 | G38: =+'Plantilla cálculo CoefCanarias'!G84 -> 0.64941367 | H38: =+'Plantilla cálculo CoefCanarias'!H84 -> 0.90604524
B41: Precios Calculados | C41: P1 | D41: P2 | E41: P3 | F41: P4 | G41: P5 | H41: P6
B42: 2.0TD | C42: =+C31+C36*($D$2+0.5*$D$3+0.5*$D$4)/1000 -> 0.2048528 | D42: =+D31+D36*($D$2+0.5*$D$3+0.5*$D$4)/1000 -> 0.1324302 | E42: =+E31+E36*($D$2+0.5*$D$3+0.5*$D$4)/1000 -> 0.084419172
B43: 3.0TD | C43: =+C32+C37*($D$2+0.5*$D$3+0.5*$D$4)/1000 -> 0.18839604 | D43: =+D32+D37*($D$2+0.5*$D$3+0.5*$D$4)/1000 -> 0.1598797 | E43: =+E32+E37*($D$2+0.5*$D$3+0.5*$D$4)/1000 -> 0.15032997 | F43: =+F32+F37*($D$2+0.5*$D$3+0.5*$D$4)/1000 -> 0.085601761 | G43: =+G32+G37*($D$2+0.5*$D$3+0.5*$D$4)/1000 -> 0.072033134 | H43: =+H32+H37*($D$2+0.5*$D$3+0.5*$D$4)/1000 -> 0.084056172
B44: 6.1TD | C44: =+C33+C38*($D$2+0.5*$D$3+0.5*$D$4)/1000 -> 0.16149429 | D44: =+D33+D38*($D$2+0.5*$D$3+0.5*$D$4)/1000 -> 0.13611029 | E44: =+E33+E38*($D$2+0.5*$D$3+0.5*$D$4)/1000 -> 0.13249816 | F44: =+F33+F38*($D$2+0.5*$D$3+0.5*$D$4)/1000 -> 0.075890329 | G44: =+G33+G38*($D$2+0.5*$D$3+0.5*$D$4)/1000 -> 0.064249721 | H44: =+H33+H38*($D$2+0.5*$D$3+0.5*$D$4)/1000 -> 0.075409208

Sheet Plantilla Cálculo de Importes
A2: Para los siguientes datos de Suministros
D3: Potencias contratadas | J3: Consumos
C4: Numero de Suministros | D4: P1 | E4: P2 | F4: P3 | G4: P4 | H4: P5 | I4: P6 | J4: P1 | K4: P2 | L4: P3 | M4: P4 | N4: P5 | O4: P6
B5: 2.0TD
B6: 3.0TD
B7: 6.1TD
B8: 6.2TD
B12: El importe del término de Potencia es | E12: =+SUMPRODUCT(D5:I8,'Plantilla Cálculo de Precios'!M4:R7) -> 0
B14: El importe del término de Energía es | E14: =+SUMPRODUCT(J5:O8,'Plantilla Cálculo de Precios'!C22:H25) -> 0
B16: El importe de Alquileres es | E16: =+SUMPRODUCT(C5:C8,'Plantilla Cálculo de Precios'!M12:M15) -> 0
B18: El importe de Impuesto eléctrico Es | E18: =0.051127*(E12+E14) -> 0
B20: El Importe Anual Ofertado es de | E20: =+E18+E16+E14+E12 -> 0
