Workbook

Sheet Plantilla cálculo CoefPeninsula
A1: 2.0TD
C2: Fórmula Península 2025 | L2: FEE (€/MWh) | M2: 2
C3: P1 | D3: P2 | E3: P3 | F3: P4 | G3: P5 | H3: P6 | L3: GDO's (€/MWh) | M3: 1
A4: Precio Medio Por periodo y tarifa del año anterior | B4: OMIE (€/MWh) | C4: 70.049277 | D4: 66.152881 | E4: 58.619492
A5: Calculado | B5: Kipen | C5: 1.111174 | D5: 1.0493665 | E5: 0.92986625
C7: P1 | D7: P2 | E7: P3 | F7: P4 | G7: P5 | H7: P6
A8: Promedio Año Anterior por periodo y tarifa | B8: SSAA (€/MWh) | C8: 12.746934 | D8: 13.071843 | E8: 12.501222
A9: Por BOE | B9: PC (€/MWh) | C9: 0.844 | D9: 0.14 | E9: 0
A10: Por BOE | B10: OM (€/MWh) | C10: 0.02 | D10: 0.02 | E10: 0.02
A11: Por BOE | B11: OS (€/MWh) | C11: 0.15 | D11: 0.15 | E11: 0.15
A12: Fijada en Licitacion año 1 a 3, luego pactada por precio | B12: GDO's (€/MWh) | C12: =+M3 -> 1 | D12: =+M3 -> 1 | E12: =+M3 -> 1
A13: Por BOE | B13: FNE (€/MWh) | C13: 1.5 | D13: 1.5 | E13: 1.5
A14: Diferencia anual de SSAA entre 2023 y 2024 | B14: D (€/MWh) | C14: 0 | D14: 0 | E14: 0
C16: P1 | D16: P2 | E16: P3 | F16: P4 | G16: P5 | H16: P6
A17: Promedio Año Anterior | B17: Perdidas (%) | C17: 0.16543939 | D17: 0.17041804 | E17: 0.19226631
A18: Por BOE | B18: TM (%) | C18: 0.015 | D18: 0.015 | E18: 0.015
C20: P1 | D20: P2 | E20: P3 | F20: P4 | G20: P5 | H20: P6
A21: Por BOE | B21: Cargos Energía (€/MWh) | C21: 58.305 | D21: 11.661 | E21: 2.915
A22: Por BOE | B22: Peajes Energía (€/MWh) | C22: 34.234 | D22: 16.54 | E22: 0.079
A23: Fijada en Licitacion (5 años) | B23: FEE (€/MWh) | C23: =+M2 -> 2 | D23: =+M2 -> 2 | E23: =+M2 -> 2
C25: P1 | D25: P2 | E25: P3 | F25: P4 | G25: P5 | H25: P6
A26: Calculado | B26: A (€/MWh) | C26: =+(C8+C9+C10+C11+C12+C13+C14)*(1+C17)*(1+C18)+C21+C22+C23 -> 113.7744 | D26: =+(D8+D9+D10+D11+D12+D13+D14)*(1+D17)*(1+D18)+D21+D22+D23 -> 49.068222 | E26: =+(E8+E9+E10+E11+E12+E13+E14)*(1+E17)*(1+E18)+E21+E22+E23 -> 23.353458
A27: Calculado | B27: B | C27: =+C5*(1+C17)*(1+C18) -> 1.3144311 | D27: =+D5*(1+D17)*(1+D18) -> 1.2466204 | E27: =+E5*(1+E17)*(1+E18) -> 1.1252779
A29: 3.0TD
C30: Fórmula Península 2025
C31: P1 | D31: P2 | E31: P3 | F31: P4 | G31: P5 | H31: P6
A32: Precio Medio Por periodo y tarifa del año anterior | B32: OMIE (€/MWh) | C32: 84.051525 | D32: 76.608229 | E32: 75.982142 | F32: 55.630646 | G32: 37.538721 | H32: 58.619492
A33: Calculado | B33: Kipen | C33: 1.3332882 | D33: 1.215217 | E33: 1.2052856 | F33: 0.88245493 | G33: 0.59546727 | H33: 0.92986625
C35: P1 | D35: P2 | E35: P3 | F35: P4 | G35: P5 | H35: P6
A36: Promedio Año Anterior por periodo y tarifa | B36: SSAA (€/MWh) | C36: 9.8870745 | D36: 11.187134 | E36: 13.246225 | F36: 14.988882 | G36: 16.258044 | H36: 12.501222
A37: Por BOE | B37: PC (€/MWh) | C37: 1.141 | D37: 0.527 | E37: 0.351 | F37: 0.264 | G37: 0.264 | H37: 0
A38: Por BOE | B38: OM (€/MWh) | C38: 0.02 | D38: 0.02 | E38: 0.02 | F38: 0.02 | G38: 0.02 | H38: 0.02
A39: Por BOE | B39: OS (€/MWh) | C39: 0.15 | D39: 0.15 | E39: 0.15 | F39: 0.15 | G39: 0.15 | H39: 0.15
A40: Fijada en Licitacion año 1 a 3, luego pactada por precio | B40: GDO's (€/MWh) | C40: =+M3 -> 1 | D40: =+$M$3 -> 1 | E40: =+$M$3 -> 1 | F40: =+$M$3 -> 1 | G40: =+$M$3 -> 1 | H40: =+$M$3 -> 1
A41: Por BOE | B41: FNE (€/MWh) | C41: 1.5 | D41: 1.5 | E41: 1.5 | F41: 1.5 | G41: 1.5 | H41: 1.5
A42: Diferencia anual de SSAA entre 2023 y 2024 | B42: D (€/MWh) | C42: 0 | D42: 0 | E42: 0 | F42: 0 | G42: 0 | H42: 0
C44: P1 | D44: P2 | E44: P3 | F44: P4 | G44: P5 | H44: P6
A45: Promedio Año Anterior | B45: Perdidas (%) | C45: 0.17938589 | D45: 0.18673572 | E45: 0.15933842 | F45: 0.154747 | G45: 0.15208557 | H45: 0.19226631
A46: Por BOE | B46: TM (%) | C46: 0.015 | D46: 0.015 | E46: 0.015 | F46: 0.015 | G46: 0.015 | H46: 0.015
C48: P1 | D48: P2 | E48: P3 | F48: P4 | G48: P5 | H48: P6
...

Sheet Plantilla cálculo CoefCanarias
A1: 2.0TD
C2: Fórmula Península 2025 | M2: FEE (€/MWh) | N2: 2
C3: P1 | D3: P2 | E3: P3 | F3: P4 | G3: P5 | H3: P6 | M3: GDO's (€/MWh) | N3: 1
A4: Precio Medio Por periodo y tarifa del año anterior | B4: OMIE (€/MWh) | C4: 79.449465 | D4: 72.140997 | E4: 51.896957
A5: Calculado | B5: Kipen | C5: 1.2602869 | D5: 1.1443545 | E5: 0.82322836
C7: P1 | D7: P2 | E7: P3 | F7: P4 | G7: P5 | H7: P6
A8: Promedio Año Anterior por periodo y tarifa | B8: SSAA (€/MWh) | C8: 12.746934 | D8: 13.071843 | E8: 12.501222
A9: Por BOE | B9: PC (€/MWh) | C9: 0.844 | D9: 0.14 | E9: 0
A10: Por BOE | B10: OM (€/MWh) | C10: 0.02 | D10: 0.02 | E10: 0.02
A11: Por BOE | B11: OS (€/MWh) | C11: 0.15 | D11: 0.15 | E11: 0.15
A12: Fijada en Licitacion año 1 a 3, luego pactada por precio | B12: GDO's (€/MWh) | C12: =+$N$3 -> 1 | D12: =+$N$3 -> 1 | E12: =+$N$3 -> 1
A13: Por BOE | B13: FNE (€/MWh) | C13: 1.5 | D13: 1.5 | E13: 1.5
A14: Diferencia anual de SSAA entre 2023 y 2024 | B14: D (€/MWh)
C16: P1 | D16: P2 | E16: P3 | F16: P4 | G16: P5 | H16: P6
A17: Promedio Año Anterior | B17: Perdidas (%) | C17: 0.16690332 | D17: 0.17541602 | E17: 0.19672142
A18: Por BOE | B18: TM (%) | C18: 0.015 | D18: 0.015 | E18: 0.015
C20: P1 | D20: P2 | E20: P3 | F20: P4 | G20: P5 | H20: P6
A21: Por BOE | B21: Cargos Energía (€/MWh) | C21: 58.305 | D21: 11.661 | E21: 2.915
A22: Por BOE | B22: Peajes Energía (€/MWh) | C22: 34.234 | D22: 16.54 | E22: 0.079
A23: Fijada en Licitacion (5 años) | B23: FEE (€/MWh) | C23: =+$N$2 -> 2 | D23: =+$N$2 -> 2 | E23: =+$N$2 -> 2
C25: P1 | D25: P2 | E25: P3 | F25: P4 | G25: P5 | H25: P6
A26: Calculado | B26: A (€/MWh) | C26: =+(C8+C9+C10+C11+C12+C13+C14)*(1+C17)*(1+C18)+C21+C22+C23 -> 113.79856 | D26: =+(D8+D9+D10+D11+D12+D13+D14)*(1+D17)*(1+D18)+D21+D22+D23 -> 49.14879 | E26: =+(E8+E9+E10+E11+E12+E13+E14)*(1+E17)*(1+E18)+E21+E22+E23 -> 23.422062
A27: Calculado | B27: B | C27: =+C5*(1+C17)*(1+C18) -> 1.4926924 | D27: =+D5*(1+D17)*(1+D18) -> 1.365269 | E27: =+E5*(1+E17)*(1+E18) -> 0.99995263
A29: 3.0TD
C30: Fórmula Península 2025
C31: P1 | D31: P2 | E31: P3 | F31: P4 | G31: P5 | H31: P6
A32: Precio Medio Por periodo y tarifa del año anterior | B32: OMIE (€/MWh) | C32: 94.088258 | D32: 89.52537 | E32: 96.529905 | F32: 47.231157 | G32: 38.589554 | H32: 51.896957
A33: Calculado | B33: Kipen | C33: 1.4924983 | D33: 1.4201184 | E33: 1.5312296 | F33: 0.74921596 | G33: 0.61213638 | H33: 0.82322836
C35: P1 | D35: P2 | E35: P3 | F35: P4 | G35: P5 | H35: P6
A36: Promedio Año Anterior por periodo y tarifa | B36: SSAA (€/MWh) | C36: 12.225808 | D36: 10.484211 | E36: 13.219747 | F36: 13.898919 | G36: 16.302252 | H36: 12.501222
A37: Por BOE | B37: PC (€/MWh) | C37: 1.141 | D37: 0.527 | E37: 0.351 | F37: 0.264 | G37: 0.264 | H37: 0
A38: Por BOE | B38: OM (€/MWh) | C38: 0.02 | D38: 0.02 | E38: 0.02 | F38: 0.02 | G38: 0.02 | H38: 0.02
A39: Por BOE | B39: OS (€/MWh) | C39: 0.15 | D39: 0.15 | E39: 0.15 | F39: 0.15 | G39: 0.15 | H39: 0.15
A40: Fijada en Licitacion año 1 a 3, luego pactada por precio | B40: GDO's (€/MWh) | C40: =+$N$3 -> 1 | D40: =+$N$3 -> 1 | E40: =+$N$3 -> 1 | F40: =+$N$3 -> 1 | G40: =+$N$3 -> 1 | H40: =+$N$3 -> 1
A41: Por BOE | B41: FNE (€/MWh) | C41: 1.5 | D41: 1.5 | E41: 1.5 | F41: 1.5 | G41: 1.5 | H41: 1.5
A42: Diferencia anual de SSAA entre 2023 y 2024 | B42: D (€/MWh)
C44: P1 | D44: P2 | E44: P3 | F44: P4 | G44: P5 | H44: P6
A45: Promedio Año Anterior | B45: Perdidas (%) | C45: 0.15346717 | D45: 0.19307585 | E45: 0.17400893 | F45: 0.17244531 | G45: 0.14491741 | H45: 0.19672142
A46: Por BOE | B46: TM (%) | C46: 0.015 | D46: 0.015 | E46: 0.015 | F46: 0.015 | G46: 0.015 | H46: 0.015
C48: P1 | D48: P2 | E48: P3 | F48: P4 | G48: P5 | H48: P6
...

Sheet Plantilla Cálculo de Precios
B2: Precio OMIP a considerar | D2: 60 | E2: €/MWh | L2: ATRp [€/kW año]
B3: Fee Settlement YR +1 | D3: 1 | E3: €/MWh | M3: P1 | N3: P2 | O3: P3 | P3: P4 | Q3: P5 | R3: P6
B4: Fee Settlement YR +2 | D4: 1 | E4: €/MWh | L4: 2.0TD | M4: 26.93055 | N4: 0.69759
L5: 3.0TD | M5: 19.65849 | N5: 10.25165 | O5: 4.26254 | P5: 3.68155 | Q5: 2.32817 | R5: 1.35639
L6: 6.1TD | M6: 28.79187 | N6: 15.07765 | O6: 6.55917 | P6: 5.17209 | Q6: 1.93281 | R6: 0.91609
A7: PENÍNSULA | L7: 6.2TD | M7: 19.62866 | N7: 10.9318 | O7: 3.57544 | P7: 2.60595 | Q7: 1.1532 | R7: 0.55404
B8: COEF A (€/kWh) | C8: P1 | D8: P2 | E8: P3 | F8: P4 | G8: P5 | H8: P6
B9: 2.0TD | C9: =+'Plantilla cálculo CoefPeninsula'!C26/1000 -> 0.1137744 | D9: =+'Plantilla cálculo CoefPeninsula'!D26/1000 -> 0.049068222 | E9: =+'Plantilla cálculo CoefPeninsula'!E26/1000 -> 0.023353458
B10: 3.0TD | C10: =+'Plantilla cálculo CoefPeninsula'!C54/1000 -> 0.079428646 | D10: =+'Plantilla cálculo CoefPeninsula'!D54/1000 -> 0.055735219 | E10: =+'Plantilla cálculo CoefPeninsula'!E54/1000 -> 0.038816107 | F10: =+'Plantilla cálculo CoefPeninsula'!F54/1000 -> 0.03218984 | G10: =+'Plantilla cálculo CoefPeninsula'!G54/1000 -> 0.02872854 | H10: =+'Plantilla cálculo CoefPeninsula'!H54/1000 -> 0.022990458
B11: 6.1TD | C11: =+'Plantilla cálculo CoefPeninsula'!C83/1000 -> 0.060979594 | D11: =+'Plantilla cálculo CoefPeninsula'!D83/1000 -> 0.042316495 | E11: =+'Plantilla cálculo CoefPeninsula'!E83/1000 -> 0.031125817 | F11: =+'Plantilla cálculo CoefPeninsula'!F83/1000 -> 0.027412102 | G11: =+'Plantilla cálculo CoefPeninsula'!G83/1000 -> 0.024630531 | H11: =+'Plantilla cálculo CoefPeninsula'!H83/1000 -> 0.020108298 | L11: Importe Alquileres
B12: 6.2TD | C12: =+'Plantilla cálculo CoefPeninsula'!C112/1000 -> 0.039049935 | D12: =+'Plantilla cálculo CoefPeninsula'!D112/1000 -> 0.030098969 | E12: =+'Plantilla cálculo CoefPeninsula'!E112/1000 -> 0.024674854 | F12: =+'Plantilla cálculo CoefPeninsula'!F112/1000 -> 0.023762339 | G12: =+'Plantilla cálculo CoefPeninsula'!G112/1000 -> 0.023198136 | H12: =+'Plantilla cálculo CoefPeninsula'!H112/1000 -> 0.01896999 | L12: 2.0TD | M12: 24 | O12: 12
L13: 3.0TD | M13: 144
B14: COEF B | C14: P1 | D14: P2 | E14: P3 | F14: P4 | G14: P5 | H14: P6 | L14: 6.1TD | M14: 540
B15: 2.0TD | C15: =+'Plantilla cálculo CoefPeninsula'!C27 -> 1.3144311 | D15: =+'Plantilla cálculo CoefPeninsula'!D27 -> 1.2466204 | E15: =+'Plantilla cálculo CoefPeninsula'!E27 -> 1.1252779 | L15: 6.2TD | M15: 540
B16: 3.0TD | C16: =+'Plantilla cálculo CoefPeninsula'!C55 -> 1.5960482 | D16: =+'Plantilla cálculo CoefPeninsula'!D55 -> 1.4637736 | E16: =+'Plantilla cálculo CoefPeninsula'!E55 -> 1.4182939 | F16: =+'Plantilla cálculo CoefPeninsula'!F55 -> 1.0342974 | G16: =+'Plantilla cálculo CoefPeninsula'!G55 -> 0.69631969 | H16: =+'Plantilla cálculo CoefPeninsula'!H55 -> 1.1252779
B17: 6.1TD | C17: =+'Plantilla cálculo CoefPeninsula'!C84 -> 1.4512692 | D17: =+'Plantilla cálculo CoefPeninsula'!D84 -> 1.3229443 | E17: =+'Plantilla cálculo CoefPeninsula'!E84 -> 1.3001551 | F17: =+'Plantilla cálculo CoefPeninsula'!F84 -> 0.95029397 | G17: =+'Plantilla cálculo CoefPeninsula'!G84 -> 0.63304115 | H17: =+'Plantilla cálculo CoefPeninsula'!H84 -> 1.0214404
B18: 6.2TD | C18: =+'Plantilla cálculo CoefPeninsula'!C113 -> 1.429333 | D18: =+'Plantilla cálculo CoefPeninsula'!D113 -> 1.304518 | E18: =+'Plantilla cálculo CoefPeninsula'!E113 -> 1.2812529 | F18: =+'Plantilla cálculo CoefPeninsula'!F113 -> 0.93769346 | G18: =+'Plantilla cálculo CoefPeninsula'!G113 -> 0.62771243 | H18: =+'Plantilla cálculo CoefPeninsula'!H113 -> 0.99825334
B21: Precios Calculados (€/kWh) | C21: P1 | D21: P2 | E21: P3 | F21: P4 | G21: P5 | H21: P6
B22: 2.0TD | C22: =+C9+C15*($D$2+0.5*$D$3+0.5*$D$4)/1000 -> 0.1939547 | D22: =+D9+D15*($D$2+0.5*$D$3+0.5*$D$4)/1000 -> 0.12511207 | E22: =+E9+E15*($D$2+0.5*$D$3+0.5*$D$4)/1000 -> 0.091995411
B23: 3.0TD | C23: =+C10+C16*($D$2+0.5*$D$3+0.5*$D$4)/1000 -> 0.17678758 | D23: =+D10+D16*($D$2+0.5*$D$3+0.5*$D$4)/1000 -> 0.14502541 | E23: =+E10+E16*($D$2+0.5*$D$3+0.5*$D$4)/1000 -> 0.12533203 | F23: =+F10+F16*($D$2+0.5*$D$3+0.5*$D$4)/1000 -> 0.09528198 | G23: =+G10+G16*($D$2+0.5*$D$3+0.5*$D$4)/1000 -> 0.071204042 | H23: =+H10+H16*($D$2+0.5*$D$3+0.5*$D$4)/1000 -> 0.091632411
B24: 6.1TD | C24: =+C11+C17*($D$2+0.5*$D$3+0.5*$D$4)/1000 -> 0.14950702 | D24: =+D11+D17*($D$2+0.5*$D$3+0.5*$D$4)/1000 -> 0.1230161 | E24: =+E11+E17*($D$2+0.5*$D$3+0.5*$D$4)/1000 -> 0.11043528 | F24: =+F11+F17*($D$2+0.5*$D$3+0.5*$D$4)/1000 -> 0.085380034 | G24: =+G11+G17*($D$2+0.5*$D$3+0.5*$D$4)/1000 -> 0.063246041 | H24: =+H11+H17*($D$2+0.5*$D$3+0.5*$D$4)/1000 -> 0.082416161
B25: 6.2TD | C25: =+C12+C18*($D$2+0.5*$D$3+0.5*$D$4)/1000 -> 0.12623925 | D25: =+D12+D18*($D$2+0.5*$D$3+0.5*$D$4)/1000 -> 0.10967457 | E25: =+E12+E18*($D$2+0.5*$D$3+0.5*$D$4)/1000 -> 0.10283128 | F25: =+F12+F18*($D$2+0.5*$D$3+0.5*$D$4)/1000 -> 0.080961639 | G25: =+G12+G18*($D$2+0.5*$D$3+0.5*$D$4)/1000 -> 0.061488594 | H25: =+H12+H18*($D$2+0.5*$D$3+0.5*$D$4)/1000 -> 0.079863444
A29: CANARIAS
B30: COEF A (€/kWh) | C30: P1 | D30: P2 | E30: P3 | F30: P4 | G30: P5 | H30: P6
B31: 2.0TD | C31: =+'Plantilla cálculo CoefCanarias'!C26/1000 -> 0.11379856 | D31: =+'Plantilla cálculo CoefCanarias'!D26/1000 -> 0.04914879 | E31: =+'Plantilla cálculo CoefCanarias'!E26/1000 -> 0.023422062
B32: 3.0TD | C32: =+'Plantilla cálculo CoefCanarias'!C54/1000 -> 0.081806401 | D32: =+'Plantilla cálculo CoefCanarias'!D54/1000 -> 0.054976563 | E32: =+'Plantilla cálculo CoefCanarias'!E54/1000 -> 0.039026784 | F32: =+'Plantilla cálculo CoefCanarias'!F54/1000 -> 0.031214712 | G32: =+'Plantilla cálculo CoefCanarias'!G54/1000 -> 0.028640279 | H32: =+'Plantilla cálculo CoefCanarias'!H54/1000 -> 0.023059062
B33: 6.1TD | C33: =+'Plantilla cálculo CoefCanarias'!C83/1000 -> 0.063361976 | D33: =+'Plantilla cálculo CoefCanarias'!D83/1000 -> 0.04158503 | E33: =+'Plantilla cálculo CoefCanarias'!E83/1000 -> 0.031191619 | F33: =+'Plantilla cálculo CoefCanarias'!F83/1000 -> 0.026355054 | G33: =+'Plantilla cálculo CoefCanarias'!G83/1000 -> 0.024635488 | H33: =+'Plantilla cálculo CoefCanarias'!H83/1000 -> 0.020140449
B35: COEF B | C35: P1 | D35: P2 | E35: P3 | F35: P4 | G35: P5 | H35: P6
B36: 2.0TD | C36: =+'Plantilla cálculo CoefCanarias'!C27 -> 1.4926924 | D36: =+'Plantilla cálculo CoefCanarias'!D27 -> 1.365269 | E36: =+'Plantilla cálculo CoefCanarias'!E27 -> 0.99995263
B37: 3.0TD | C37: =+'Plantilla cálculo CoefCanarias'!C55 -> 1.7473711 | D37: =+'Plantilla cálculo CoefCanarias'!D55 -> 1.7197236 | E37: =+'Plantilla cálculo CoefCanarias'!E55 -> 1.8246424 | F37: =+'Plantilla cálculo CoefCanarias'!F55 -> 0.89159096 | G37: =+'Plantilla cálculo CoefCanarias'!G55 -> 0.71135828 | H37: =+'Plantilla cálculo CoefCanarias'!H55 -> 0.99995263
B38: 6.1TD | C38: =+'Plantilla cálculo CoefCanarias'!C84 -> 1.6087265 | D38: =+'Plantilla cálculo CoefCanarias'!D84 -> 1.5495944 | E38: =+'Plantilla cálculo CoefCanarias'!E84 -> 1.6607629 | F38: =+'Plantilla cálculo CoefCanarias'!F84 -> 0.81205369 | G38: =+'Plantilla cálculo CoefCanarias'!G84 -> 0.64941367 | H38: =+'Plantilla cálculo CoefCanarias'!H84 -> 0.90604524
B41: Precios Calculados | C41: P1 | D41: P2 | E41: P3 | F41: P4 | G41: P5 | H41: P6
B42: 2.0TD | C42: =+C31+C36*($D$2+0.5*$D$3+0.5*$D$4)/1000 -> 0.2048528 | D42: =+D31+D36*($D$2+0.5*$D$3+0.5*$D$4)/1000 -> 0.1324302 | E42: =+E31+E36*($D$2+0.5*$D$3+0.5*$D$4)/1000 -> 0.084419172
B43: 3.0TD | C43: =+C32+C37*($D$2+0.5*$D$3+0.5*$D$4)/1000 -> 0.18839604 | D43: =+D32+D37*($D$2+0.5*$D$3+0.5*$D$4)/1000 -> 0.1598797 | E43: =+E32+E37*($D$2+0.5*$D$3+0.5*$D$4)/1000 -> 0.15032997 | F43: =+F32+F37*($D$2+0.5*$D$3+0.5*$D$4)/1000 -> 0.085601761 | G43: =+G32+G37*($D$2+0.5*$D$3+0.5*$D$4)/1000 -> 0.072033134 | H43: =+H32+H37*($D$2+0.5*$D$3+0.5*$D$4)/1000 -> 0.084056172
B44: 6.1TD | C44: =+C33+C38*($D$2+0.5*$D$3+0.5*$D$4)/1000 -> 0.16149429 | D44: =+D33+D38*($D$2+0.5*$D$3+0.5*$D$4)/1000 -> 0.13611029 | E44: =+E33+E38*($D$2+0.5*$D$3+0.5*$D$4)/1000 -> 0.13249816 | F44: =+F33+F38*($D$2+0.5*$D$3+0.5*$D$4)/1000 -> 0.075890329 | G44: =+G33+G38*($D$2+0.5*$D$3+0.5*$D$4)/1000 -> 0.064249721 | H44: =+H33+H38*($D$2+0.5*$D$3+0.5*$D$4)/1000 -> 0.075409208

Sheet Plantilla Cálculo de Importes
A2: Para los siguientes datos de Suministros
D3: Potencias contratadas | J3: Consumos
C4: Numero de Suministros | D4: P1 | E4: P2 | F4: P3 | G4: P4 | H4: P5 | I4: P6 | J4: P1 | K4: P2 | L4: P3 | M4: P4 | N4: P5 | O4: P6
B5: 2.0TD
B6: 3.0TD
B7: 6.1TD
B8: 6.2TD
B12: El importe del término de Potencia es | E12: =+SUMPRODUCT(D5:I8,'Plantilla Cálculo de Precios'!M4:R7) -> 0
B14: El importe del término de Energía es | E14: =+SUMPRODUCT(J5:O8,'Plantilla Cálculo de Precios'!C22:H25) -> 0
B16: El importe de Alquileres es | E16: =+SUMPRODUCT(C5:C8,'Plantilla Cálculo de Precios'!M12:M15) -> 0
B18: El importe de Impuesto eléctrico Es | E18: =0.051127*(E12+E14) -> 0
B20: El Importe Anual Ofertado es de | E20: =+E18+E16+E14+E12 -> 0
